BEGIN:VCALENDAR
VERSION:2.0
METHOD:PUBLISH
BEGIN:VEVENT
DTSTART:20250227T160000Z
DTEND:20250301T000000Z
LOCATION:Portage, IN 46368
TRANSP: OPAQUE
SEQUENCE:0
UID:
DTSTAMP:20260419T070252Z
SUMMARY:Bailey Phase II Hundreds Collectbles Friday Fill Bag "20
DESCRIPTION:Bailey Phase II Hundreds Collectbles Friday Fill Bag "20 Auction & Estates by Diana Cook 
UID:1776603772
STREET-ADDRESS:See website
POSTAL-CODE:46368
LOCALITY:Portage
REGION:ABBREV=IN
COUNTRY:ABBREV=US;ABBREV=USA:United States
URL;TYPE=Event Listing:https://estatesales.org/estate-sales/in/portage/46368/bailey-phase-ii-hundreds-collectbles-2362307
PRIORITY:1
CLASS:PUBLIC
SEQUENCE:0
STATUS:CONFIRMED
TRANSP:OPAQUE
END:VEVENT
END:VCALENDAR
