BEGIN:VCALENDAR
VERSION:2.0
METHOD:PUBLISH
BEGIN:VEVENT
DTSTART:20160227T130000Z
DTEND:20160228T190000Z
LOCATION:Saint Louis, MO 63123
TRANSP: OPAQUE
SEQUENCE:0
UID:
DTSTAMP:20260419T105838Z
SUMMARY:Bogard's Estate Sale - South County
DESCRIPTION:Bogard's Estate Sale - South County Bogard's Estate Sales 
UID:1776617918
STREET-ADDRESS:See website
POSTAL-CODE:63123
LOCALITY:Saint Louis
REGION:ABBREV=MO
COUNTRY:ABBREV=US;ABBREV=USA:United States
URL;TYPE=Event Listing:https://estatesales.org/estate-sales/mo/saint-louis/63123/bogards-estate-sale-south-county-762745
PRIORITY:1
CLASS:PUBLIC
SEQUENCE:0
STATUS:CONFIRMED
TRANSP:OPAQUE
END:VEVENT
END:VCALENDAR
