BEGIN:VCALENDAR
VERSION:2.0
METHOD:PUBLISH
BEGIN:VEVENT
DTSTART:20260226T160000Z
DTEND:20260302T000000Z
LOCATION:Exeter, CA 93221
TRANSP: OPAQUE
SEQUENCE:0
UID:
DTSTAMP:20260422T045946Z
SUMMARY:Western Roundup Estate Sale
DESCRIPTION:Western Roundup Estate Sale Golden Estate Sales 
UID:1776855586
STREET-ADDRESS:See website
POSTAL-CODE:93221
LOCALITY:Exeter
REGION:ABBREV=CA
COUNTRY:ABBREV=US;ABBREV=USA:United States
URL;TYPE=Event Listing:https://estatesales.org/estate-sales/ca/exeter/93221/western-roundup-estate-sale-2426394
PRIORITY:1
CLASS:PUBLIC
SEQUENCE:0
STATUS:CONFIRMED
TRANSP:OPAQUE
END:VEVENT
END:VCALENDAR
