BEGIN:VCALENDAR
VERSION:2.0
METHOD:PUBLISH
BEGIN:VEVENT
DTSTART:20260226T130000Z
DTEND:20260228T180000Z
LOCATION:The Villages, FL 32162
TRANSP: OPAQUE
SEQUENCE:0
UID:
DTSTAMP:20260419T152240Z
SUMMARY:60% OFF Magnolia Lane in The Village of Piedmont
DESCRIPTION:60% OFF Magnolia Lane in The Village of Piedmont Magnolia Lane Estate Sales 
UID:1776633760
STREET-ADDRESS:See website
POSTAL-CODE:32162
LOCALITY:The Villages
REGION:ABBREV=FL
COUNTRY:ABBREV=US;ABBREV=USA:United States
URL;TYPE=Event Listing:https://estatesales.org/estate-sales/fl/the-villages/32162/60-off-magnolia-lane-in-2425779
PRIORITY:1
CLASS:PUBLIC
SEQUENCE:0
STATUS:CONFIRMED
TRANSP:OPAQUE
END:VEVENT
END:VCALENDAR
