BEGIN:VCALENDAR
VERSION:2.0
METHOD:PUBLISH
BEGIN:VEVENT
DTSTART:20210226T170000Z
DTEND:20210228T210000Z
LOCATION:Sonoma, CA 95476
TRANSP: OPAQUE
SEQUENCE:0
UID:
DTSTAMP:20260421T124213Z
SUMMARY:LOVELY ECLECTIC MIX OF OLD & NEW
DESCRIPTION:LOVELY ECLECTIC MIX OF OLD & NEW Susan Gardner Estate Sales 
UID:1776796933
STREET-ADDRESS:See website
POSTAL-CODE:95476
LOCALITY:Sonoma
REGION:ABBREV=CA
COUNTRY:ABBREV=US;ABBREV=USA:United States
URL;TYPE=Event Listing:https://estatesales.org/estate-sales/ca/sonoma/95476/lovely-eclectic-mix-of-old-1873813
PRIORITY:1
CLASS:PUBLIC
SEQUENCE:0
STATUS:CONFIRMED
TRANSP:OPAQUE
END:VEVENT
END:VCALENDAR
