BEGIN:VCALENDAR
VERSION:2.0
METHOD:PUBLISH
BEGIN:VEVENT
DTSTART:20200226T150000Z
DTEND:20200229T210000Z
LOCATION:Mexia, TX 76667
TRANSP: OPAQUE
SEQUENCE:0
UID:
DTSTAMP:20260424T214954Z
SUMMARY:Lakeside Estate Sale in Mexia TX Feb. 26-29
DESCRIPTION:Lakeside Estate Sale in Mexia TX Feb. 26-29 Lakeside Estate Sales, CGL LLC. 
UID:1777088994
STREET-ADDRESS:See website
POSTAL-CODE:76667
LOCALITY:Mexia
REGION:ABBREV=TX
COUNTRY:ABBREV=US;ABBREV=USA:United States
URL;TYPE=Event Listing:https://estatesales.org/estate-sales/tx/mexia/76667/lakeside-estate-sale-in-mexia-1769955
PRIORITY:1
CLASS:PUBLIC
SEQUENCE:0
STATUS:CONFIRMED
TRANSP:OPAQUE
END:VEVENT
END:VCALENDAR
