BEGIN:VCALENDAR
VERSION:2.0
METHOD:PUBLISH
BEGIN:VEVENT
DTSTART:20160226T180000Z
DTEND:20160228T010000Z
LOCATION:Pasadena, CA 91103
TRANSP: OPAQUE
SEQUENCE:0
UID:
DTSTAMP:20260424T202627Z
SUMMARY:PASADENA - PROSPECT SQUARE ESTATE
DESCRIPTION:PASADENA - PROSPECT SQUARE ESTATE Sharon Yost Estate Sales 
UID:1777083987
STREET-ADDRESS:See website
POSTAL-CODE:91103
LOCALITY:Pasadena
REGION:ABBREV=CA
COUNTRY:ABBREV=US;ABBREV=USA:United States
URL;TYPE=Event Listing:https://estatesales.org/estate-sales/ca/pasadena/91103/pasadena-prospect-square-estate-781661
PRIORITY:1
CLASS:PUBLIC
SEQUENCE:0
STATUS:CONFIRMED
TRANSP:OPAQUE
END:VEVENT
END:VCALENDAR
