BEGIN:VCALENDAR
VERSION:2.0
METHOD:PUBLISH
BEGIN:VEVENT
DTSTART:20210225T150000Z
DTEND:20210227T210000Z
LOCATION:Orland Park, IL 60462
TRANSP: OPAQUE
SEQUENCE:0
UID:
DTSTAMP:20260425T152509Z
SUMMARY:*** XCNTRIC ESTATE SALES *** JAM PACKED "THRILL OF THE HUNT°" ORLAND PARK ESTATE SALE
DESCRIPTION:*** XCNTRIC ESTATE SALES *** JAM PACKED "THRILL OF THE HUNT°" ORLAND PARK ESTATE SALE XCNTRIC Estate Sales+Liquidation Services | Tinley Park+Orland Park 
UID:1777152309
STREET-ADDRESS:See website
POSTAL-CODE:60462
LOCALITY:Orland Park
REGION:ABBREV=IL
COUNTRY:ABBREV=US;ABBREV=USA:United States
URL;TYPE=Event Listing:https://estatesales.org/estate-sales/il/orland-park/60462/xcntric-estate-sales-jam-packed-1860817
PRIORITY:1
CLASS:PUBLIC
SEQUENCE:0
STATUS:CONFIRMED
TRANSP:OPAQUE
END:VEVENT
END:VCALENDAR
