BEGIN:VCALENDAR
VERSION:2.0
METHOD:PUBLISH
BEGIN:VEVENT
DTSTART:20240224T170000Z
DTEND:20240225T230000Z
LOCATION:Santa Rosa, CA 95409
TRANSP: OPAQUE
SEQUENCE:0
UID:
DTSTAMP:20260421T124248Z
SUMMARY:SUSAN GARDNER ESTATE SALE 7426 OAKLEAF DRIVE SATURDAY & SUNDAY 9-3
DESCRIPTION:SUSAN GARDNER ESTATE SALE 7426 OAKLEAF DRIVE SATURDAY & SUNDAY 9-3 Susan Gardner Estate Sales 
UID:1776796968
STREET-ADDRESS:See website
POSTAL-CODE:95409
LOCALITY:Santa Rosa
REGION:ABBREV=CA
COUNTRY:ABBREV=US;ABBREV=USA:United States
URL;TYPE=Event Listing:https://estatesales.org/estate-sales/ca/santa-rosa/95409/susan-gardner-estate-sale-7426-2285051
PRIORITY:1
CLASS:PUBLIC
SEQUENCE:0
STATUS:CONFIRMED
TRANSP:OPAQUE
END:VEVENT
END:VCALENDAR
