BEGIN:VCALENDAR
VERSION:2.0
METHOD:PUBLISH
BEGIN:VEVENT
DTSTART:20240224T140000Z
DTEND:20240225T200000Z
LOCATION:Monroe Township, NJ 08831
TRANSP: OPAQUE
SEQUENCE:0
UID:
DTSTAMP:20260425T203643Z
SUMMARY:A Dusty Old Bag is in Monroe Township For a High End Sale
DESCRIPTION:A Dusty Old Bag is in Monroe Township For a High End Sale A Dusty Old Bag  
UID:1777171003
STREET-ADDRESS:See website
POSTAL-CODE:08831
LOCALITY:Monroe Township
REGION:ABBREV=NJ
COUNTRY:ABBREV=US;ABBREV=USA:United States
URL;TYPE=Event Listing:https://estatesales.org/estate-sales/nj/monroe-township/08831/a-dusty-old-bag-is-2284631
PRIORITY:1
CLASS:PUBLIC
SEQUENCE:0
STATUS:CONFIRMED
TRANSP:OPAQUE
END:VEVENT
END:VCALENDAR
