BEGIN:VCALENDAR
VERSION:2.0
METHOD:PUBLISH
BEGIN:VEVENT
DTSTART:20240224T140000Z
DTEND:20240224T200000Z
LOCATION:Geneva, FL 32732
TRANSP: OPAQUE
SEQUENCE:0
UID:
DTSTAMP:20260423T132647Z
SUMMARY:BLOWOUT DAY in Geneva by EMERALD
DESCRIPTION:BLOWOUT DAY in Geneva by EMERALD Estate Sales by Emerald 
UID:1776972407
STREET-ADDRESS:See website
POSTAL-CODE:32732
LOCALITY:Geneva
REGION:ABBREV=FL
COUNTRY:ABBREV=US;ABBREV=USA:United States
URL;TYPE=Event Listing:https://estatesales.org/estate-sales/fl/geneva/32732/blowout-day-in-geneva-by-2284513
PRIORITY:1
CLASS:PUBLIC
SEQUENCE:0
STATUS:CONFIRMED
TRANSP:OPAQUE
END:VEVENT
END:VCALENDAR
