BEGIN:VCALENDAR
VERSION:2.0
METHOD:PUBLISH
BEGIN:VEVENT
DTSTART:20230224T140000Z
DTEND:20230224T200000Z
LOCATION:Mount Holly, NC 28120
TRANSP: OPAQUE
SEQUENCE:0
UID:
DTSTAMP:20260422T014700Z
SUMMARY:105 years of life!
DESCRIPTION:105 years of life! EZ Way Estate Solutions 
UID:1776844020
STREET-ADDRESS:See website
POSTAL-CODE:28120
LOCALITY:Mount Holly
REGION:ABBREV=NC
COUNTRY:ABBREV=US;ABBREV=USA:United States
URL;TYPE=Event Listing:https://estatesales.org/estate-sales/nc/mount-holly/28120/105-years-of-life-2150725
PRIORITY:1
CLASS:PUBLIC
SEQUENCE:0
STATUS:CONFIRMED
TRANSP:OPAQUE
END:VEVENT
END:VCALENDAR
