BEGIN:VCALENDAR
VERSION:2.0
METHOD:PUBLISH
BEGIN:VEVENT
DTSTART:20180224T170000Z
DTEND:20180224T220000Z
LOCATION:Tehachapi, CA 93561
TRANSP: OPAQUE
SEQUENCE:0
UID:
DTSTAMP:20260420T172953Z
SUMMARY:Expert Estates LLC Bear Valley Springs Estate Sale Saturday Only!
DESCRIPTION:Expert Estates LLC Bear Valley Springs Estate Sale Saturday Only! Expert Estate Sales by L. A. Kroese 
UID:1776727793
STREET-ADDRESS:See website
POSTAL-CODE:93561
LOCALITY:Tehachapi
REGION:ABBREV=CA
COUNTRY:ABBREV=US;ABBREV=USA:United States
URL;TYPE=Event Listing:https://estatesales.org/estate-sales/ca/tehachapi/93561/expert-estates-llc-bear-valley-1483461
PRIORITY:1
CLASS:PUBLIC
SEQUENCE:0
STATUS:CONFIRMED
TRANSP:OPAQUE
END:VEVENT
END:VCALENDAR
