BEGIN:VCALENDAR
VERSION:2.0
METHOD:PUBLISH
BEGIN:VEVENT
DTSTART:20170224T140000Z
DTEND:20170225T190000Z
LOCATION:Spring Hill, FL 34609
TRANSP: OPAQUE
SEQUENCE:0
UID:
DTSTAMP:20260423T130957Z
SUMMARY:Brand name: cookware, purses, & clothes & the bathroom,sink,worth the drive
DESCRIPTION:Brand name: cookware, purses, & clothes & the bathroom,sink,worth the drive A1Estate Sales 
UID:1776971397
STREET-ADDRESS:See website
POSTAL-CODE:34609
LOCALITY:Spring Hill
REGION:ABBREV=FL
COUNTRY:ABBREV=US;ABBREV=USA:United States
URL;TYPE=Event Listing:https://estatesales.org/estate-sales/fl/spring-hill/34609/brand-name-cookware-purses-clothes-1090223
PRIORITY:1
CLASS:PUBLIC
SEQUENCE:0
STATUS:CONFIRMED
TRANSP:OPAQUE
END:VEVENT
END:VCALENDAR
