BEGIN:VCALENDAR
VERSION:2.0
METHOD:PUBLISH
BEGIN:VEVENT
DTSTART:20240223T160000Z
DTEND:20240226T000000Z
LOCATION:La Habra, CA 90631
TRANSP: OPAQUE
SEQUENCE:0
UID:
DTSTAMP:20260422T195428Z
SUMMARY:Estate Sale
DESCRIPTION:Estate Sale Helpful Hands Today 
UID:1776909268
STREET-ADDRESS:See website
POSTAL-CODE:90631
LOCALITY:La Habra
REGION:ABBREV=CA
COUNTRY:ABBREV=US;ABBREV=USA:United States
URL;TYPE=Event Listing:https://estatesales.org/estate-sales/ca/la-habra/90631/estate-sale-2285335
PRIORITY:1
CLASS:PUBLIC
SEQUENCE:0
STATUS:CONFIRMED
TRANSP:OPAQUE
END:VEVENT
END:VCALENDAR
