BEGIN:VCALENDAR
VERSION:2.0
METHOD:PUBLISH
BEGIN:VEVENT
DTSTART:20230223T150000Z
DTEND:20230225T190000Z
LOCATION:Fairfield, TX 75840
TRANSP: OPAQUE
SEQUENCE:0
UID:
DTSTAMP:20260424T215111Z
SUMMARY:Lakeside Estate Sales LLC: Fairfield, TX.
DESCRIPTION:Lakeside Estate Sales LLC: Fairfield, TX. Lakeside Estate Sales, CGL LLC. 
UID:1777089071
STREET-ADDRESS:See website
POSTAL-CODE:75840
LOCALITY:Fairfield
REGION:ABBREV=TX
COUNTRY:ABBREV=US;ABBREV=USA:United States
URL;TYPE=Event Listing:https://estatesales.org/estate-sales/tx/fairfield-/75840/lakeside-estate-sales-llc-fairfield-2147821
PRIORITY:1
CLASS:PUBLIC
SEQUENCE:0
STATUS:CONFIRMED
TRANSP:OPAQUE
END:VEVENT
END:VCALENDAR
