BEGIN:VCALENDAR
VERSION:2.0
METHOD:PUBLISH
BEGIN:VEVENT
DTSTART:20190223T170000Z
DTEND:20190224T230000Z
LOCATION:Agoura Hills, CA 91301
TRANSP: OPAQUE
SEQUENCE:0
UID:
DTSTAMP:20260420T021116Z
SUMMARY:It's back with even more! Part 2- Â Antique, Vintage and Current. With Asian and Mid Century:Huge Event
DESCRIPTION:It's back with even more! Part 2- Â Antique, Vintage and Current. With Asian and Mid Century:Huge Event Triumphant Estate Sales of Los Angeles 
UID:1776672676
STREET-ADDRESS:See website
POSTAL-CODE:91301
LOCALITY:Agoura Hills
REGION:ABBREV=CA
COUNTRY:ABBREV=US;ABBREV=USA:United States
URL;TYPE=Event Listing:https://estatesales.org/estate-sales/ca/agoura-hills/91301/you-asked-its-back-with-1624859
PRIORITY:1
CLASS:PUBLIC
SEQUENCE:0
STATUS:CONFIRMED
TRANSP:OPAQUE
END:VEVENT
END:VCALENDAR
