BEGIN:VCALENDAR
VERSION:2.0
METHOD:PUBLISH
BEGIN:VEVENT
DTSTART:20180223T170000Z
DTEND:20180225T230000Z
LOCATION:Denver, CO 80260
TRANSP: OPAQUE
SEQUENCE:0
UID:
DTSTAMP:20260422T132531Z
SUMMARY:50% OFF SUNDAY
DESCRIPTION:50% OFF SUNDAY TCS Estate Sales 
UID:1776885931
STREET-ADDRESS:See website
POSTAL-CODE:80260
LOCALITY:Denver
REGION:ABBREV=CO
COUNTRY:ABBREV=US;ABBREV=USA:United States
URL;TYPE=Event Listing:https://estatesales.org/estate-sales/co/federal-heights/80260/50-off-sunday-1481853
PRIORITY:1
CLASS:PUBLIC
SEQUENCE:0
STATUS:CONFIRMED
TRANSP:OPAQUE
END:VEVENT
END:VCALENDAR
