BEGIN:VCALENDAR
VERSION:2.0
METHOD:PUBLISH
BEGIN:VEVENT
DTSTART:20260222T150000Z
DTEND:20260222T190000Z
LOCATION:Glassboro, NJ 08028
TRANSP: OPAQUE
SEQUENCE:0
UID:
DTSTAMP:20260425T162419Z
SUMMARY:EXTENDED ANOTHER DAY!!!! Estate Sale In Glassboro, NJ
DESCRIPTION:EXTENDED ANOTHER DAY!!!! Estate Sale In Glassboro, NJ B&B Estate Sales 
UID:1777155859
STREET-ADDRESS:See website
POSTAL-CODE:08028
LOCALITY:Glassboro
REGION:ABBREV=NJ
COUNTRY:ABBREV=US;ABBREV=USA:United States
URL;TYPE=Event Listing:https://estatesales.org/estate-sales/nj/glassboro/08028/extended-another-day-estate-sale-2426435
PRIORITY:1
CLASS:PUBLIC
SEQUENCE:0
STATUS:CONFIRMED
TRANSP:OPAQUE
END:VEVENT
END:VCALENDAR
