BEGIN:VCALENDAR
VERSION:2.0
METHOD:PUBLISH
BEGIN:VEVENT
DTSTART:20250222T140000Z
DTEND:20250223T190000Z
LOCATION:Ypsilanti, MI 48197
TRANSP: OPAQUE
SEQUENCE:0
UID:
DTSTAMP:20260424T084008Z
SUMMARY:Airbnb Liquidation Sale
DESCRIPTION:Airbnb Liquidation Sale
UID:1777041608
STREET-ADDRESS:See website
POSTAL-CODE:48197
LOCALITY:Ypsilanti
REGION:ABBREV=MI
COUNTRY:ABBREV=US;ABBREV=USA:United States
URL;TYPE=Event Listing:https://estatesales.org/estate-sales/mi/ypsilanti/48197/airbnb-liquidation-sale-2362573
PRIORITY:1
CLASS:PUBLIC
SEQUENCE:0
STATUS:CONFIRMED
TRANSP:OPAQUE
END:VEVENT
END:VCALENDAR
