BEGIN:VCALENDAR
VERSION:2.0
METHOD:PUBLISH
BEGIN:VEVENT
DTSTART:20250222T140000Z
DTEND:20250222T220000Z
LOCATION:Watertown, MA 02472
TRANSP: OPAQUE
SEQUENCE:0
UID:
DTSTAMP:20260421T094154Z
SUMMARY:Elegant Bridal Gown sample sale and eclectic collections
DESCRIPTION:Elegant Bridal Gown sample sale and eclectic collections Caring Transitions of Franklin & Milford 
UID:1776786114
STREET-ADDRESS:See website
POSTAL-CODE:02472
LOCALITY:Watertown
REGION:ABBREV=MA
COUNTRY:ABBREV=US;ABBREV=USA:United States
URL;TYPE=Event Listing:https://estatesales.org/estate-sales/ma/watertown/02472/elegant-bridal-gown-sample-sale-2362168
PRIORITY:1
CLASS:PUBLIC
SEQUENCE:0
STATUS:CONFIRMED
TRANSP:OPAQUE
END:VEVENT
END:VCALENDAR
