BEGIN:VCALENDAR
VERSION:2.0
METHOD:PUBLISH
BEGIN:VEVENT
DTSTART:20240222T170000Z
DTEND:20240225T000000Z
LOCATION:Bothell, WA 98011
TRANSP: OPAQUE
SEQUENCE:0
UID:
DTSTAMP:20260420T135256Z
SUMMARY:Bothell - 3 DAY ESTATE SALE - CHES
DESCRIPTION:Bothell - 3 DAY ESTATE SALE - CHES Cosmopolitan Hoarder Estate Services, LLC 
UID:1776714776
STREET-ADDRESS:See website
POSTAL-CODE:98011
LOCALITY:Bothell
REGION:ABBREV=WA
COUNTRY:ABBREV=US;ABBREV=USA:United States
URL;TYPE=Event Listing:https://estatesales.org/estate-sales/wa/bothell/98011/bothell-3-day-estate-sale-2281593
PRIORITY:1
CLASS:PUBLIC
SEQUENCE:0
STATUS:CONFIRMED
TRANSP:OPAQUE
END:VEVENT
END:VCALENDAR
