BEGIN:VCALENDAR
VERSION:2.0
METHOD:PUBLISH
BEGIN:VEVENT
DTSTART:20240222T150000Z
DTEND:20240224T200000Z
LOCATION:Scottsdale, AZ 85254
TRANSP: OPAQUE
SEQUENCE:0
UID:
DTSTAMP:20260422T084603Z
SUMMARY:+++LAST DAY 50% OFF SATURDAY! So Much Stellar & Stylish Stuff In Scottsdale Estate Sale
DESCRIPTION:+++LAST DAY 50% OFF SATURDAY! So Much Stellar & Stylish Stuff In Scottsdale Estate Sale Allegro Estate Sales FL 
UID:1776869163
STREET-ADDRESS:See website
POSTAL-CODE:85254
LOCALITY:Scottsdale
REGION:ABBREV=AZ
COUNTRY:ABBREV=US;ABBREV=USA:United States
URL;TYPE=Event Listing:https://estatesales.org/estate-sales/az/scottsdale/85254/last-day-50-off-saturday-2283833
PRIORITY:1
CLASS:PUBLIC
SEQUENCE:0
STATUS:CONFIRMED
TRANSP:OPAQUE
END:VEVENT
END:VCALENDAR
