BEGIN:VCALENDAR
VERSION:2.0
METHOD:PUBLISH
BEGIN:VEVENT
DTSTART:20240222T130000Z
DTEND:20240223T180000Z
LOCATION:Sun City Center, FL 33573
TRANSP: OPAQUE
SEQUENCE:0
UID:
DTSTAMP:20260422T045946Z
SUMMARY:Exclusive Gated Community in Sun City Center hosted by Sunshine Estate Liquidators
DESCRIPTION:Exclusive Gated Community in Sun City Center hosted by Sunshine Estate Liquidators Sunshine Estate Liquidators 
UID:1776855586
STREET-ADDRESS:See website
POSTAL-CODE:33573
LOCALITY:Sun City Center
REGION:ABBREV=FL
COUNTRY:ABBREV=US;ABBREV=USA:United States
URL;TYPE=Event Listing:https://estatesales.org/estate-sales/fl/sun-city-center/33573/exclusive-gated-community-in-sun-2283457
PRIORITY:1
CLASS:PUBLIC
SEQUENCE:0
STATUS:CONFIRMED
TRANSP:OPAQUE
END:VEVENT
END:VCALENDAR
