BEGIN:VCALENDAR
VERSION:2.0
METHOD:PUBLISH
BEGIN:VEVENT
DTSTART:20200222T143000Z
DTEND:20200222T203000Z
LOCATION:Syracuse, NY 13214
TRANSP: OPAQUE
SEQUENCE:0
UID:
DTSTAMP:20260420T094334Z
SUMMARY:HUGE MULTI-ESTATE WAREHOUSE INVENTORY CLEARANCE TAG SALE! Feb 22nd - One Day Only!  Antiques, Vintage, Quality, Like New & Items of Curiosity!
DESCRIPTION:HUGE MULTI-ESTATE WAREHOUSE INVENTORY CLEARANCE TAG SALE! Feb 22nd - One Day Only!  Antiques, Vintage, Quality, Like New & Items of Curiosity! Auctions, Estate Sales & Real Estate by: Terri Peters & Associates   (315-447-1656)  CNY's Premier Auction & Estate Company 
UID:1776699814
STREET-ADDRESS:See website
POSTAL-CODE:13214
LOCALITY:Syracuse
REGION:ABBREV=NY
COUNTRY:ABBREV=US;ABBREV=USA:United States
URL;TYPE=Event Listing:https://estatesales.org/estate-sales/ny/dewitt/13214/huge-multiestate-warehouse-inventory-clearance-1766675
PRIORITY:1
CLASS:PUBLIC
SEQUENCE:0
STATUS:CONFIRMED
TRANSP:OPAQUE
END:VEVENT
END:VCALENDAR
