BEGIN:VCALENDAR
VERSION:2.0
METHOD:PUBLISH
BEGIN:VEVENT
DTSTART:20260221T170000Z
DTEND:20260223T000000Z
LOCATION:San Leandro, CA 94577
TRANSP: OPAQUE
SEQUENCE:0
UID:
DTSTAMP:20260425T190209Z
SUMMARY:2/21 Fabulous finds near downtown San Leandro
DESCRIPTION:2/21 Fabulous finds near downtown San Leandro
UID:1777165329
STREET-ADDRESS:See website
POSTAL-CODE:94577
LOCALITY:San Leandro
REGION:ABBREV=CA
COUNTRY:ABBREV=US;ABBREV=USA:United States
URL;TYPE=Event Listing:https://estatesales.org/estate-sales/ca/san-leandro/94577/221-fabulous-finds-near-downtown-2425971
PRIORITY:1
CLASS:PUBLIC
SEQUENCE:0
STATUS:CONFIRMED
TRANSP:OPAQUE
END:VEVENT
END:VCALENDAR
