BEGIN:VCALENDAR
VERSION:2.0
METHOD:PUBLISH
BEGIN:VEVENT
DTSTART:20260221T170000Z
DTEND:20260222T220000Z
LOCATION:San Jose, CA 95120
TRANSP: OPAQUE
SEQUENCE:0
UID:
DTSTAMP:20260423T104123Z
SUMMARY:DAY 2 – ALMADEN COUNTRY CLUB ESTATE SALE – STILL PACKED!
DESCRIPTION:DAY 2 – ALMADEN COUNTRY CLUB ESTATE SALE – STILL PACKED!
UID:1776962483
STREET-ADDRESS:See website
POSTAL-CODE:95120
LOCALITY:San Jose
REGION:ABBREV=CA
COUNTRY:ABBREV=US;ABBREV=USA:United States
URL;TYPE=Event Listing:https://estatesales.org/estate-sales/ca/san-jose/95120/day-2-almaden-country-club-2426373
PRIORITY:1
CLASS:PUBLIC
SEQUENCE:0
STATUS:CONFIRMED
TRANSP:OPAQUE
END:VEVENT
END:VCALENDAR
