BEGIN:VCALENDAR
VERSION:2.0
METHOD:PUBLISH
BEGIN:VEVENT
DTSTART:20260221T150000Z
DTEND:20260222T193000Z
LOCATION:Sun City, AZ 85351
TRANSP: OPAQUE
SEQUENCE:0
UID:
DTSTAMP:20260419T194500Z
SUMMARY:SUN CITY ESTATE SALE - Tools -Cushman Scooter
DESCRIPTION:SUN CITY ESTATE SALE - Tools -Cushman Scooter Arizona Finds 
UID:1776649500
STREET-ADDRESS:See website
POSTAL-CODE:85351
LOCALITY:Sun City
REGION:ABBREV=AZ
COUNTRY:ABBREV=US;ABBREV=USA:United States
URL;TYPE=Event Listing:https://estatesales.org/estate-sales/az/sun-city/85351/sun-city-estate-sale-tools-2422380
PRIORITY:1
CLASS:PUBLIC
SEQUENCE:0
STATUS:CONFIRMED
TRANSP:OPAQUE
END:VEVENT
END:VCALENDAR
