BEGIN:VCALENDAR
VERSION:2.0
METHOD:PUBLISH
BEGIN:VEVENT
DTSTART:20250221T140000Z
DTEND:20250223T190000Z
LOCATION:Winter Park, FL 32792
TRANSP: OPAQUE
SEQUENCE:0
UID:
DTSTAMP:20260423T132523Z
SUMMARY:EMERALD will be in Winter Park
DESCRIPTION:EMERALD will be in Winter Park Estate Sales by Emerald 
UID:1776972323
STREET-ADDRESS:See website
POSTAL-CODE:32792
LOCALITY:Winter Park
REGION:ABBREV=FL
COUNTRY:ABBREV=US;ABBREV=USA:United States
URL;TYPE=Event Listing:https://estatesales.org/estate-sales/fl/winter-park/32792/emerald-will-be-in-winter-2362155
PRIORITY:1
CLASS:PUBLIC
SEQUENCE:0
STATUS:CONFIRMED
TRANSP:OPAQUE
END:VEVENT
END:VCALENDAR
