BEGIN:VCALENDAR
VERSION:2.0
METHOD:PUBLISH
BEGIN:VEVENT
DTSTART:20250221T160000Z
DTEND:20250222T200000Z
LOCATION:Phoenix, AZ 85007
TRANSP: OPAQUE
SEQUENCE:0
UID:
DTSTAMP:20260419T195048Z
SUMMARY:Phoenix Estate Sale
DESCRIPTION:Phoenix Estate Sale Arizona Finds 
UID:1776649848
STREET-ADDRESS:See website
POSTAL-CODE:85007
LOCALITY:Phoenix
REGION:ABBREV=AZ
COUNTRY:ABBREV=US;ABBREV=USA:United States
URL;TYPE=Event Listing:https://estatesales.org/estate-sales/az/phoenix/85007/phoenix-estate-sale-2360362
PRIORITY:1
CLASS:PUBLIC
SEQUENCE:0
STATUS:CONFIRMED
TRANSP:OPAQUE
END:VEVENT
END:VCALENDAR
