BEGIN:VCALENDAR
VERSION:2.0
METHOD:PUBLISH
BEGIN:VEVENT
DTSTART:20200221T150000Z
DTEND:20200223T210000Z
LOCATION:Belleville, MI 48111
TRANSP: OPAQUE
SEQUENCE:0
UID:
DTSTAMP:20260425T112923Z
SUMMARY:Exquisite Belleville Lake Home Estate Sale Everything Goes 
DESCRIPTION:Exquisite Belleville Lake Home Estate Sale Everything Goes  Estate Sale Specialists LLC 
UID:1777138163
STREET-ADDRESS:See website
POSTAL-CODE:48111
LOCALITY:Belleville
REGION:ABBREV=MI
COUNTRY:ABBREV=US;ABBREV=USA:United States
URL;TYPE=Event Listing:https://estatesales.org/estate-sales/mi/belleville/48111/exquisite-belleville-lake-home-estate-1768301
PRIORITY:1
CLASS:PUBLIC
SEQUENCE:0
STATUS:CONFIRMED
TRANSP:OPAQUE
END:VEVENT
END:VCALENDAR
