BEGIN:VCALENDAR
VERSION:2.0
METHOD:PUBLISH
BEGIN:VEVENT
DTSTART:20260220T163000Z
DTEND:20260221T230000Z
LOCATION:Prosper, TX 75078
TRANSP: OPAQUE
SEQUENCE:0
UID:
DTSTAMP:20260423T231203Z
SUMMARY:JLA Treasures- Prosper’s Premier Art & Antique Estate Sale
DESCRIPTION:JLA Treasures- Prosper’s Premier Art & Antique Estate Sale JLA Treasures LLC 
UID:1777007523
STREET-ADDRESS:See website
POSTAL-CODE:75078
LOCALITY:Prosper
REGION:ABBREV=TX
COUNTRY:ABBREV=US;ABBREV=USA:United States
URL;TYPE=Event Listing:https://estatesales.org/estate-sales/tx/prosper/75078/jla-treasures-prospers-premier-art-2425026
PRIORITY:1
CLASS:PUBLIC
SEQUENCE:0
STATUS:CONFIRMED
TRANSP:OPAQUE
END:VEVENT
END:VCALENDAR
