BEGIN:VCALENDAR
VERSION:2.0
METHOD:PUBLISH
BEGIN:VEVENT
DTSTART:20260220T170000Z
DTEND:20260222T220000Z
LOCATION:Bakersfield, CA 93306
TRANSP: OPAQUE
SEQUENCE:0
UID:
DTSTAMP:20260422T100358Z
SUMMARY:Bakersfield
DESCRIPTION:Bakersfield Indianoaksestatesales 
UID:1776873838
STREET-ADDRESS:See website
POSTAL-CODE:93306
LOCALITY:Bakersfield
REGION:ABBREV=CA
COUNTRY:ABBREV=US;ABBREV=USA:United States
URL;TYPE=Event Listing:https://estatesales.org/estate-sales/ca/bakersfield-/93306/bakersfield-2426195
PRIORITY:1
CLASS:PUBLIC
SEQUENCE:0
STATUS:CONFIRMED
TRANSP:OPAQUE
END:VEVENT
END:VCALENDAR
