BEGIN:VCALENDAR
VERSION:2.0
METHOD:PUBLISH
BEGIN:VEVENT
DTSTART:20260220T140000Z
DTEND:20260221T210000Z
LOCATION:Rowlett, TX 75088
TRANSP: OPAQUE
SEQUENCE:0
UID:
DTSTAMP:20260421T182722Z
SUMMARY:Ward Estate Sale Rowlett, Texas
DESCRIPTION:Ward Estate Sale Rowlett, Texas
UID:1776817642
STREET-ADDRESS:See website
POSTAL-CODE:75088
LOCALITY:Rowlett
REGION:ABBREV=TX
COUNTRY:ABBREV=US;ABBREV=USA:United States
URL;TYPE=Event Listing:https://estatesales.org/estate-sales/tx/rowlett/75088/ward-estate-sale-rowlett-texas-2425467
PRIORITY:1
CLASS:PUBLIC
SEQUENCE:0
STATUS:CONFIRMED
TRANSP:OPAQUE
END:VEVENT
END:VCALENDAR
