BEGIN:VCALENDAR
VERSION:2.0
METHOD:PUBLISH
BEGIN:VEVENT
DTSTART:20260220T140000Z
DTEND:20260221T190000Z
LOCATION:Valrico, FL 33594
TRANSP: OPAQUE
SEQUENCE:0
UID:
DTSTAMP:20260420T024418Z
SUMMARY:Valrico 2 Day Full House Estate Sale Hosted by Fresh Start Estate Liquidators
DESCRIPTION:Valrico 2 Day Full House Estate Sale Hosted by Fresh Start Estate Liquidators Fresh Start Estate Liquidators 
UID:1776674658
STREET-ADDRESS:See website
POSTAL-CODE:33594
LOCALITY:Valrico
REGION:ABBREV=FL
COUNTRY:ABBREV=US;ABBREV=USA:United States
URL;TYPE=Event Listing:https://estatesales.org/estate-sales/fl/valrico-/33594/valrico-2-day-full-house-2425814
PRIORITY:1
CLASS:PUBLIC
SEQUENCE:0
STATUS:CONFIRMED
TRANSP:OPAQUE
END:VEVENT
END:VCALENDAR
