BEGIN:VCALENDAR
VERSION:2.0
METHOD:PUBLISH
BEGIN:VEVENT
DTSTART:20260220T160000Z
DTEND:20260223T010000Z
LOCATION:La Habra, CA 90631
TRANSP: OPAQUE
SEQUENCE:0
UID:
DTSTAMP:20260422T195428Z
SUMMARY:“Master Craftsman Estate: Vintage Hand Tools, Industrial Decor & Rarities” and much more
DESCRIPTION:“Master Craftsman Estate: Vintage Hand Tools, Industrial Decor & Rarities” and much more Helpful Hands Today 
UID:1776909268
STREET-ADDRESS:See website
POSTAL-CODE:90631
LOCALITY:La Habra
REGION:ABBREV=CA
COUNTRY:ABBREV=US;ABBREV=USA:United States
URL;TYPE=Event Listing:https://estatesales.org/estate-sales/ca/la-habra/90631/master-craftsman-estate-vintage-hand-2425313
PRIORITY:1
CLASS:PUBLIC
SEQUENCE:0
STATUS:CONFIRMED
TRANSP:OPAQUE
END:VEVENT
END:VCALENDAR
