BEGIN:VCALENDAR
VERSION:2.0
METHOD:PUBLISH
BEGIN:VEVENT
DTSTART:20260220T150000Z
DTEND:20260220T220000Z
LOCATION:Tucson, AZ 85750
TRANSP: OPAQUE
SEQUENCE:0
UID:
DTSTAMP:20260419T062513Z
SUMMARY:SPECIAL FRIDAY ONLY SALE by The Girls Estate Sales ~ Snyder & Kolb
DESCRIPTION:SPECIAL FRIDAY ONLY SALE by The Girls Estate Sales ~ Snyder & Kolb The Girls Estate Sales 
UID:1776601513
STREET-ADDRESS:See website
POSTAL-CODE:85750
LOCALITY:Tucson
REGION:ABBREV=AZ
COUNTRY:ABBREV=US;ABBREV=USA:United States
URL;TYPE=Event Listing:https://estatesales.org/estate-sales/az/tucson/85750/special-friday-only-sale-by-2426076
PRIORITY:1
CLASS:PUBLIC
SEQUENCE:0
STATUS:CONFIRMED
TRANSP:OPAQUE
END:VEVENT
END:VCALENDAR
