BEGIN:VCALENDAR
VERSION:2.0
METHOD:PUBLISH
BEGIN:VEVENT
DTSTART:20200220T150000Z
DTEND:20200222T200000Z
LOCATION:Nyack, NY 10960
TRANSP: OPAQUE
SEQUENCE:0
UID:
DTSTAMP:20260420T103200Z
SUMMARY:James Donovan Estate Sale
DESCRIPTION:James Donovan Estate Sale Hudson Valley Auctioneers 
UID:1776702720
STREET-ADDRESS:See website
POSTAL-CODE:10960
LOCALITY:Nyack
REGION:ABBREV=NY
COUNTRY:ABBREV=US;ABBREV=USA:United States
URL;TYPE=Event Listing:https://estatesales.org/estate-sales/ny/nyack/10960/james-donovan-estate-sale-1768075
PRIORITY:1
CLASS:PUBLIC
SEQUENCE:0
STATUS:CONFIRMED
TRANSP:OPAQUE
END:VEVENT
END:VCALENDAR
