BEGIN:VCALENDAR
VERSION:2.0
METHOD:PUBLISH
BEGIN:VEVENT
DTSTART:20200220T140000Z
DTEND:20200222T200000Z
LOCATION:Ocala, FL 34476
TRANSP: OPAQUE
SEQUENCE:0
UID:
DTSTAMP:20260420T060958Z
SUMMARY:Nice looking Sale in Spruce Creek
DESCRIPTION:Nice looking Sale in Spruce Creek Justice League Estate Sales 
UID:1776686998
STREET-ADDRESS:See website
POSTAL-CODE:34476
LOCALITY:Ocala
REGION:ABBREV=FL
COUNTRY:ABBREV=US;ABBREV=USA:United States
URL;TYPE=Event Listing:https://estatesales.org/estate-sales/fl/ocala/34476/nice-looking-sale-in-spruce-1765279
PRIORITY:1
CLASS:PUBLIC
SEQUENCE:0
STATUS:CONFIRMED
TRANSP:OPAQUE
END:VEVENT
END:VCALENDAR
