BEGIN:VCALENDAR
VERSION:2.0
METHOD:PUBLISH
BEGIN:VEVENT
DTSTART:20200220T140000Z
DTEND:20200222T200000Z
LOCATION:Tampa, FL 33606
TRANSP: OPAQUE
SEQUENCE:0
UID:
DTSTAMP:20260420T060846Z
SUMMARY:Very nice unique sale in Tampa 
DESCRIPTION:Very nice unique sale in Tampa  Justice League Estate Sales 
UID:1776686926
STREET-ADDRESS:See website
POSTAL-CODE:33606
LOCALITY:Tampa
REGION:ABBREV=FL
COUNTRY:ABBREV=US;ABBREV=USA:United States
URL;TYPE=Event Listing:https://estatesales.org/estate-sales/fl/tampa/33606/very-nice-unique-sale-in-1765277
PRIORITY:1
CLASS:PUBLIC
SEQUENCE:0
STATUS:CONFIRMED
TRANSP:OPAQUE
END:VEVENT
END:VCALENDAR
