BEGIN:VCALENDAR
VERSION:2.0
METHOD:PUBLISH
BEGIN:VEVENT
DTSTART:20160220T200000Z
DTEND:20160220T050000Z
LOCATION:Ithaca, NY 14850
TRANSP: OPAQUE
SEQUENCE:0
UID:
DTSTAMP:20260425T051822Z
SUMMARY:Absolute Auction...Huge Collection of Native American Pieces, Primitives and more!
DESCRIPTION:Absolute Auction...Huge Collection of Native American Pieces, Primitives and more! Finger Lakes Estate and Auction Company 
UID:1777115902
STREET-ADDRESS:See website
POSTAL-CODE:14850
LOCALITY:Ithaca
REGION:ABBREV=NY
COUNTRY:ABBREV=US;ABBREV=USA:United States
URL;TYPE=Event Listing:https://estatesales.org/estate-sales/ny/ithaca/14850/absolute-auctionhuge-collection-of-native-771607
PRIORITY:1
CLASS:PUBLIC
SEQUENCE:0
STATUS:CONFIRMED
TRANSP:OPAQUE
END:VEVENT
END:VCALENDAR
