BEGIN:VCALENDAR
VERSION:2.0
METHOD:PUBLISH
BEGIN:VEVENT
DTSTART:20260220T073100Z
DTEND:20260308T220000Z
LOCATION:Gilroy, CA 95020
TRANSP: OPAQUE
SEQUENCE:0
UID:
DTSTAMP:20260421T031733Z
SUMMARY:SILVER COINS + ART NOUVEAU Art Glass • Vintage Jewelry • Designer Pottery • NEW ITEMS Fri @ 5PM
DESCRIPTION:SILVER COINS + ART NOUVEAU Art Glass • Vintage Jewelry • Designer Pottery • NEW ITEMS Fri @ 5PM Estate Auctioneer 
UID:1776763053
STREET-ADDRESS:See website
POSTAL-CODE:95020
LOCALITY:Gilroy
REGION:ABBREV=CA
COUNTRY:ABBREV=US;ABBREV=USA:United States
URL;TYPE=Event Listing:https://estatesales.org/estate-sales/ca/gilroy/95020/silver-coins-art-nouveau-art-2426203
PRIORITY:1
CLASS:PUBLIC
SEQUENCE:0
STATUS:CONFIRMED
TRANSP:OPAQUE
END:VEVENT
END:VCALENDAR
