BEGIN:VCALENDAR
VERSION:2.0
METHOD:PUBLISH
BEGIN:VEVENT
DTSTART:20260219T150000Z
DTEND:20260221T180000Z
LOCATION:Florence, SC 29501
TRANSP: OPAQUE
SEQUENCE:0
UID:
DTSTAMP:20260423T054205Z
SUMMARY:Large Estate Sale On Silverthorne St in Queens Ferry in Florence
DESCRIPTION:Large Estate Sale On Silverthorne St in Queens Ferry in Florence Bouldin Estate Sales 
UID:1776944525
STREET-ADDRESS:See website
POSTAL-CODE:29501
LOCALITY:Florence
REGION:ABBREV=SC
COUNTRY:ABBREV=US;ABBREV=USA:United States
URL;TYPE=Event Listing:https://estatesales.org/estate-sales/sc/florence/29501/large-estate-sale-on-silverthorne-2425818
PRIORITY:1
CLASS:PUBLIC
SEQUENCE:0
STATUS:CONFIRMED
TRANSP:OPAQUE
END:VEVENT
END:VCALENDAR
