BEGIN:VCALENDAR
VERSION:2.0
METHOD:PUBLISH
BEGIN:VEVENT
DTSTART:20260219T140000Z
DTEND:20260221T210000Z
LOCATION:Mckinney, TX 75070
TRANSP: OPAQUE
SEQUENCE:0
UID:
DTSTAMP:20260419T192135Z
SUMMARY:Mega Sale in McKinney - Part 1
DESCRIPTION:Mega Sale in McKinney - Part 1 Chickadee Lane Estate and Moving Sales, LLC 
UID:1776648095
STREET-ADDRESS:See website
POSTAL-CODE:75070
LOCALITY:Mckinney
REGION:ABBREV=TX
COUNTRY:ABBREV=US;ABBREV=USA:United States
URL;TYPE=Event Listing:https://estatesales.org/estate-sales/tx/mckinney/75070/mega-sale-in-mckinney-part-2425309
PRIORITY:1
CLASS:PUBLIC
SEQUENCE:0
STATUS:CONFIRMED
TRANSP:OPAQUE
END:VEVENT
END:VCALENDAR
