BEGIN:VCALENDAR
VERSION:2.0
METHOD:PUBLISH
BEGIN:VEVENT
DTSTART:20260219T160000Z
DTEND:20260221T200000Z
LOCATION:Mohave Valley, AZ 86440
TRANSP: OPAQUE
SEQUENCE:0
UID:
DTSTAMP:20260419T224249Z
SUMMARY:Huge Sale Cars Motors Tools Antiques
DESCRIPTION:Huge Sale Cars Motors Tools Antiques Taylor Family Store LLC 
UID:1776660169
STREET-ADDRESS:See website
POSTAL-CODE:86440
LOCALITY:Mohave Valley
REGION:ABBREV=AZ
COUNTRY:ABBREV=US;ABBREV=USA:United States
URL;TYPE=Event Listing:https://estatesales.org/estate-sales/az/mohave-valley/86440/huge-sale-cars-motors-tools-2425598
PRIORITY:1
CLASS:PUBLIC
SEQUENCE:0
STATUS:CONFIRMED
TRANSP:OPAQUE
END:VEVENT
END:VCALENDAR
