BEGIN:VCALENDAR
VERSION:2.0
METHOD:PUBLISH
BEGIN:VEVENT
DTSTART:20260219T150000Z
DTEND:20260221T220000Z
LOCATION:Colorado Springs, CO 80918
TRANSP: OPAQUE
SEQUENCE:0
UID:
DTSTAMP:20260424T113428Z
SUMMARY:Rockhurst Estate Sale
DESCRIPTION:Rockhurst Estate Sale Vintage Estate Company 
UID:1777052068
STREET-ADDRESS:See website
POSTAL-CODE:80918
LOCALITY:Colorado Springs
REGION:ABBREV=CO
COUNTRY:ABBREV=US;ABBREV=USA:United States
URL;TYPE=Event Listing:https://estatesales.org/estate-sales/co/colorado-springs/80918/rockhurst-estate-sale-2425889
PRIORITY:1
CLASS:PUBLIC
SEQUENCE:0
STATUS:CONFIRMED
TRANSP:OPAQUE
END:VEVENT
END:VCALENDAR
