BEGIN:VCALENDAR
VERSION:2.0
METHOD:PUBLISH
BEGIN:VEVENT
DTSTART:20260219T210000Z
DTEND:20260221T210000Z
LOCATION:Mustang, OK 73064
TRANSP: OPAQUE
SEQUENCE:0
UID:
DTSTAMP:20260423T192947Z
SUMMARY:Estate Sale this week - Tons of finds!
DESCRIPTION:Estate Sale this week - Tons of finds! Clutter Free LLC 
UID:1776994187
STREET-ADDRESS:See website
POSTAL-CODE:73064
LOCALITY:Mustang
REGION:ABBREV=OK
COUNTRY:ABBREV=US;ABBREV=USA:United States
URL;TYPE=Event Listing:https://estatesales.org/estate-sales/ok/mustang/73064/estate-sale-this-week-tons-2425716
PRIORITY:1
CLASS:PUBLIC
SEQUENCE:0
STATUS:CONFIRMED
TRANSP:OPAQUE
END:VEVENT
END:VCALENDAR
