BEGIN:VCALENDAR
VERSION:2.0
METHOD:PUBLISH
BEGIN:VEVENT
DTSTART:20160219T160000Z
DTEND:20160220T220000Z
LOCATION:Greendale, WI 53129
TRANSP: OPAQUE
SEQUENCE:0
UID:
DTSTAMP:20260420T030216Z
SUMMARY:Greendale Estate Sale
DESCRIPTION:Greendale Estate Sale All in the Family Estate Sales 
UID:1776675736
STREET-ADDRESS:See website
POSTAL-CODE:53129
LOCALITY:Greendale
REGION:ABBREV=WI
COUNTRY:ABBREV=US;ABBREV=USA:United States
URL;TYPE=Event Listing:https://estatesales.org/estate-sales/wi/greendale/53129/greendale-estate-sale-769361
PRIORITY:1
CLASS:PUBLIC
SEQUENCE:0
STATUS:CONFIRMED
TRANSP:OPAQUE
END:VEVENT
END:VCALENDAR
