BEGIN:VCALENDAR
VERSION:2.0
METHOD:PUBLISH
BEGIN:VEVENT
DTSTART:20240218T160000Z
DTEND:20240218T220000Z
LOCATION:Beverly, MA 01915
TRANSP: OPAQUE
SEQUENCE:0
UID:
DTSTAMP:20260419T104714Z
SUMMARY:February Estate Auction
DESCRIPTION:February Estate Auction KaminskiAuctions 
UID:1776617234
STREET-ADDRESS:See website
POSTAL-CODE:01915
LOCALITY:Beverly
REGION:ABBREV=MA
COUNTRY:ABBREV=US;ABBREV=USA:United States
URL;TYPE=Event Listing:https://estatesales.org/estate-sales/ma/beverly/01915/february-estate-auction-2281549
PRIORITY:1
CLASS:PUBLIC
SEQUENCE:0
STATUS:CONFIRMED
TRANSP:OPAQUE
END:VEVENT
END:VCALENDAR
