BEGIN:VCALENDAR
VERSION:2.0
METHOD:PUBLISH
BEGIN:VEVENT
DTSTART:20230218T160000Z
DTEND:20230219T210000Z
LOCATION:Seattle, WA 98112
TRANSP: OPAQUE
SEQUENCE:0
UID:
DTSTAMP:20260424T165453Z
SUMMARY:Sunday Sale. ! 50% off Madison Park Historic Home 3 Full Floors/ Vintage Clothing/ Art/ Collectables + MORE Info
DESCRIPTION:Sunday Sale. ! 50% off Madison Park Historic Home 3 Full Floors/ Vintage Clothing/ Art/ Collectables + MORE Info Fruitcocktail Collectibles Estate Sales and Appraisals, LLC 
UID:1777071293
STREET-ADDRESS:See website
POSTAL-CODE:98112
LOCALITY:Seattle
REGION:ABBREV=WA
COUNTRY:ABBREV=US;ABBREV=USA:United States
URL;TYPE=Event Listing:https://estatesales.org/estate-sales/wa/seattle/98112/sunday-sale-50-off-madison-2148045
PRIORITY:1
CLASS:PUBLIC
SEQUENCE:0
STATUS:CONFIRMED
TRANSP:OPAQUE
END:VEVENT
END:VCALENDAR
